BEGIN:VCALENDAR
VERSION:2.0
PRODID:-//ChamberMaster//Event Calendar 2.0//EN
METHOD:PUBLISH
X-PUBLISHED-TTL:P3D
REFRESH-INTERVAL:P3D
CALSCALE:GREGORIAN
BEGIN:VEVENT
DTSTART:20180724T210000Z
DTEND:20180724T230000Z
X-MICROSOFT-CDO-ALLDAYEVENT:FALSE
SUMMARY:Membership Mixer at Hanover Bowling Centre
DESCRIPTION:Join the Hanover Bowling Centre for a Membership Mixer filled with free bowling\, food\, drinks and more! Families are more than welcome to attend and enjoy this get together.
X-ALT-DESC;FMTTYPE=text/html:<span style="font-family:tahoma\;"><span style="font-size:11.0pt\;">Join the Hanover Bowling Centre for a Membership Mixer filled with free bowling\, food\, drinks and more! Families are more than welcome to attend and enjoy this get together.&nbsp\;</span></span><br />\n<br />\n&nbsp\;&nbsp\;&nbsp\;&nbsp\;&nbsp\;&nbsp\;&nbsp\;&nbsp\;
LOCATION:Hanover Bowling Centre 1630 Broadway Hanover\, PA 17331
UID:e.1500.4259
SEQUENCE:3
DTSTAMP:20260420T182922Z
URL:https://business.mainstreethanover.org/events/details/membership-mixer-at-hanover-bowling-centre-4259
END:VEVENT

END:VCALENDAR
