BEGIN:VCALENDAR
VERSION:2.0
PRODID:-//ChamberMaster//Event Calendar 2.0//EN
METHOD:PUBLISH
X-PUBLISHED-TTL:P3D
REFRESH-INTERVAL:P3D
CALSCALE:GREGORIAN
BEGIN:VEVENT
DTSTART:20180820T200000Z
DTEND:20180820T220000Z
X-MICROSOFT-CDO-ALLDAYEVENT:FALSE
SUMMARY:Membership Mixer at Hanover Hall Nursing and Rehab Center
DESCRIPTION:Membership Mixer
X-ALT-DESC;FMTTYPE=text/html:Membership Mixer&nbsp\;&nbsp\;&nbsp\;&nbsp\;
LOCATION:Hanover Hall Nursing and Rehab Center 267 Frederick Street Hanover\, PA 17331
UID:e.1500.4257
SEQUENCE:3
DTSTAMP:20260420T165124Z
URL:https://business.mainstreethanover.org/events/details/membership-mixer-at-hanover-hall-nursing-and-rehab-center-4257
END:VEVENT

END:VCALENDAR
