BEGIN:VCALENDAR
VERSION:2.0
PRODID:-//ChamberMaster//Event Calendar 2.0//EN
METHOD:PUBLISH
X-PUBLISHED-TTL:P3D
REFRESH-INTERVAL:P3D
CALSCALE:GREGORIAN
BEGIN:VEVENT
DTSTART:20180607T210000Z
DTEND:20180607T230000Z
X-MICROSOFT-CDO-ALLDAYEVENT:FALSE
SUMMARY:Membership Mixer at Hanover Land Services
DESCRIPTION:Membership Mixer
X-ALT-DESC;FMTTYPE=text/html:Membership Mixer&nbsp\;&nbsp\;&nbsp\;&nbsp\;
LOCATION:Hanover Land Services 585 McAllister Street Hanover\, PA 17331
UID:e.1500.4173
SEQUENCE:3
DTSTAMP:20260420T200220Z
URL:https://business.mainstreethanover.org/events/details/membership-mixer-at-hanover-land-services-4173
END:VEVENT

END:VCALENDAR
