BEGIN:VCALENDAR
VERSION:2.0
PRODID:-//ChamberMaster//Event Calendar 2.0//EN
METHOD:PUBLISH
X-PUBLISHED-TTL:P3D
REFRESH-INTERVAL:P3D
CALSCALE:GREGORIAN
BEGIN:VEVENT
DTSTART:20150624T213000Z
DTEND:20150624T233000Z
X-MICROSOFT-CDO-ALLDAYEVENT:FALSE
SUMMARY:Membership Mixer at Members 1st 6/24/15
DESCRIPTION:Membership Mixer
X-ALT-DESC;FMTTYPE=text/html:Membership Mixer
LOCATION:Member's 1st Federal Credit Union\, 1680 Baltimore Street\, Hanover Additional Parking At Santander Bank located next to Member's 1st!
UID:e.1500.900
SEQUENCE:3
DTSTAMP:20260423T040648Z
URL:https://business.mainstreethanover.org/events/details/membership-mixer-at-members-1st-6-24-15-06-24-2015-900
END:VEVENT

END:VCALENDAR
