BEGIN:VCALENDAR
VERSION:2.0
PRODID:-//ChamberMaster//Event Calendar 2.0//EN
METHOD:PUBLISH
X-PUBLISHED-TTL:P3D
REFRESH-INTERVAL:P3D
CALSCALE:GREGORIAN
BEGIN:VEVENT
DTSTART:20180523T210000Z
DTEND:20180523T230000Z
X-MICROSOFT-CDO-ALLDAYEVENT:FALSE
SUMMARY:Membership Mixer at Miscreation Brewing Company
DESCRIPTION:Membership Mixer
X-ALT-DESC;FMTTYPE=text/html:Membership Mixer&nbsp\;&nbsp\;&nbsp\;&nbsp\;
LOCATION:Miscreation Brewing Company 6 Center Square Hanover\, PA 17331
UID:e.1500.4193
SEQUENCE:3
DTSTAMP:20260420T215434Z
URL:https://business.mainstreethanover.org/events/details/membership-mixer-at-miscreation-brewing-company-4193
END:VEVENT

END:VCALENDAR
