BEGIN:VCALENDAR
VERSION:2.0
PRODID:-//ChamberMaster//Event Calendar 2.0//EN
METHOD:PUBLISH
X-PUBLISHED-TTL:P3D
REFRESH-INTERVAL:P3D
CALSCALE:GREGORIAN
BEGIN:VEVENT
DTSTART:20160427T210000Z
DTEND:20160427T230000Z
X-MICROSOFT-CDO-ALLDAYEVENT:FALSE
SUMMARY:Membership Mixer At PeoplesBank
DESCRIPTION:Membership Mixer
X-ALT-DESC;FMTTYPE=text/html:<span style="line-height: 20.8px\;">Membership Mixer &nbsp\; &nbsp\;</span>
LOCATION:PeoplesBank 118 Carlisle Street Hanover\, Pa 17331
UID:e.1500.1091
SEQUENCE:3
DTSTAMP:20260422T143605Z
URL:https://business.mainstreethanover.org/events/details/membership-mixer-at-peoplesbank-04-27-2016-1091
END:VEVENT

END:VCALENDAR
