BEGIN:VCALENDAR
VERSION:2.0
PRODID:-//ChamberMaster//Event Calendar 2.0//EN
METHOD:PUBLISH
X-PUBLISHED-TTL:P3D
REFRESH-INTERVAL:P3D
CALSCALE:GREGORIAN
BEGIN:VEVENT
DTSTART:20151112T220000Z
DTEND:20151113T000000Z
X-MICROSOFT-CDO-ALLDAYEVENT:FALSE
SUMMARY:Membership Mixer at The Markets at Hanover
DESCRIPTION:Membership Mixer
X-ALT-DESC;FMTTYPE=text/html:Membership Mixer&nbsp\;&nbsp\;&nbsp\;&nbsp\;&nbsp\;&nbsp\;&nbsp\;&nbsp\;
LOCATION:The Markets at Hanover 1649 Broadway Hanover\, PA 17331
UID:e.1500.972
SEQUENCE:3
DTSTAMP:20260422T215054Z
URL:https://business.mainstreethanover.org/events/details/membership-mixer-at-the-markets-at-hanover-11-12-2015-972
END:VEVENT

END:VCALENDAR
