BEGIN:VCALENDAR
VERSION:2.0
PRODID:-//ChamberMaster//Event Calendar 2.0//EN
METHOD:PUBLISH
X-PUBLISHED-TTL:P3D
REFRESH-INTERVAL:P3D
CALSCALE:GREGORIAN
BEGIN:VEVENT
DTSTART:20180906T210000Z
DTEND:20180906T230000Z
X-MICROSOFT-CDO-ALLDAYEVENT:FALSE
SUMMARY:Membership Mixer at Visiting Nurse Association of Hanover & Spring Grove
DESCRIPTION:Membership Mixer
X-ALT-DESC;FMTTYPE=text/html:Membership Mixer&nbsp\;&nbsp\;&nbsp\;&nbsp\;
LOCATION:Visiting Nurse Association of Hanover & Spring Grove 440 Madison Street Hanover\, PA 17331
UID:e.1500.4279
SEQUENCE:3
DTSTAMP:20260420T151035Z
URL:https://business.mainstreethanover.org/events/details/membership-mixer-at-visiting-nurse-association-of-hanover-spring-grove-4279
END:VEVENT

END:VCALENDAR
