BEGIN:VCALENDAR
VERSION:2.0
PRODID:-//ChamberMaster//Event Calendar 2.0//EN
METHOD:PUBLISH
X-PUBLISHED-TTL:P3D
REFRESH-INTERVAL:P3D
CALSCALE:GREGORIAN
BEGIN:VEVENT
DTSTART:20161117T220000Z
DTEND:20161118T000000Z
X-MICROSOFT-CDO-ALLDAYEVENT:FALSE
SUMMARY:Membership Mixer at White Rose Credit Union
DESCRIPTION:Join White Rose Credit Union for a Membership Mixer!
X-ALT-DESC;FMTTYPE=text/html:Join White Rose Credit Union for a Membership Mixer!
LOCATION:1001 Carlisle Street\, Hanover
UID:e.1500.2261
SEQUENCE:3
DTSTAMP:20260422T021823Z
URL:https://business.mainstreethanover.org/events/details/membership-mixer-at-white-rose-credit-union-2261
END:VEVENT

END:VCALENDAR
