BEGIN:VCALENDAR
VERSION:2.0
PRODID:-//ChamberMaster//Event Calendar 2.0//EN
METHOD:PUBLISH
X-PUBLISHED-TTL:P3D
REFRESH-INTERVAL:P3D
CALSCALE:GREGORIAN
BEGIN:VEVENT
DTSTART:20170906T210000Z
DTEND:20170906T230000Z
X-MICROSOFT-CDO-ALLDAYEVENT:FALSE
SUMMARY:Membership Mixer at Windy Hill on the Campus
DESCRIPTION:Membership Mixer
X-ALT-DESC;FMTTYPE=text/html:Membership Mixer&nbsp\;&nbsp\;&nbsp\;&nbsp\;
LOCATION:1472 Roths Church Rd Suite 103 Spring Grove\, PA 17362 Located in what was the Spring Grove Middle School Building on Roth's Church Road. The first building on the campus that faces Roth's Church Road. Attendees should use the first door where the handicapped ramp is located.
UID:e.1500.2513
SEQUENCE:3
DTSTAMP:20260421T105151Z
URL:https://business.mainstreethanover.org/events/details/membership-mixer-at-windy-hill-on-the-campus-2513
END:VEVENT

END:VCALENDAR
