BEGIN:VCALENDAR
VERSION:2.0
PRODID:-//ChamberMaster//Event Calendar 2.0//EN
METHOD:PUBLISH
X-PUBLISHED-TTL:P3D
REFRESH-INTERVAL:P3D
CALSCALE:GREGORIAN
BEGIN:VEVENT
DTSTART:20181016T210000Z
DTEND:20181016T230000Z
X-MICROSOFT-CDO-ALLDAYEVENT:FALSE
SUMMARY:Membership Mixer at York Adams Tennis Association
DESCRIPTION:
X-ALT-DESC;FMTTYPE=text/html:
LOCATION:York Adams Community Tennis Association 225 Bowman Road (rear) Hanover\, PA - Directly behind South Western's Middle School (Emory Markle Intermediate School).
UID:e.1500.3128
SEQUENCE:3
DTSTAMP:20260420T132735Z
URL:https://business.mainstreethanover.org/events/details/membership-mixer-at-york-adams-tennis-association-3128
END:VEVENT

END:VCALENDAR
