BEGIN:VCALENDAR
VERSION:2.0
PRODID:-//ChamberMaster//Event Calendar 2.0//EN
METHOD:PUBLISH
X-PUBLISHED-TTL:P3D
REFRESH-INTERVAL:P3D
CALSCALE:GREGORIAN
BEGIN:VEVENT
DTSTART;VALUE=DATE:20161214
DTEND;VALUE=DATE:20161215
TRANSP:TRANSPARENT
X-MICROSOFT-CDO-ALLDAYEVENT:TRUE
SUMMARY:Membership Mixer - CANCELED
DESCRIPTION:MIXER CANCELED
X-ALT-DESC;FMTTYPE=text/html:MIXER CANCELED
LOCATION:
UID:e.1500.2291
SEQUENCE:3
DTSTAMP:20260422T003015Z
URL:https://business.mainstreethanover.org/events/details/membership-mixer-canceled-2291
END:VEVENT

END:VCALENDAR
