BEGIN:VCALENDAR
VERSION:2.0
PRODID:-//ChamberMaster//Event Calendar 2.0//EN
METHOD:PUBLISH
X-PUBLISHED-TTL:P3D
REFRESH-INTERVAL:P3D
CALSCALE:GREGORIAN
BEGIN:VEVENT
DTSTART:20180208T220000Z
DTEND:20180209T000000Z
X-MICROSOFT-CDO-ALLDAYEVENT:FALSE
SUMMARY:Membership Mixer - DOCEO Office Solutions
DESCRIPTION:
X-ALT-DESC;FMTTYPE=text/html:
LOCATION:490 Eisenhower Drive\, Suite 100 Hanover\, PA 17331
UID:e.1500.3084
SEQUENCE:3
DTSTAMP:20260421T042829Z
URL:https://business.mainstreethanover.org/events/details/membership-mixer-doceo-office-solutions-3084
END:VEVENT

END:VCALENDAR
