BEGIN:VCALENDAR
VERSION:2.0
PRODID:-//ChamberMaster//Event Calendar 2.0//EN
METHOD:PUBLISH
X-PUBLISHED-TTL:P3D
REFRESH-INTERVAL:P3D
CALSCALE:GREGORIAN
BEGIN:VEVENT
DTSTART:20160810T210000Z
DTEND:20160810T223000Z
X-MICROSOFT-CDO-ALLDAYEVENT:FALSE
SUMMARY:Membership Mixer Hosted by All Shined Up Car Wash
DESCRIPTION:Come Join Us For Our Membership Mixer Hosted By All Shined Up Car Wash!
X-ALT-DESC;FMTTYPE=text/html:<strong>Come Join Us For Our Membership Mixer Hosted By All Shined Up Car Wash!</strong>
LOCATION:All Shined Up Car Wash 1187 Carlisle St. Hanover\, PA 17331
UID:e.1500.1166
SEQUENCE:3
DTSTAMP:20260422T071557Z
URL:https://business.mainstreethanover.org/events/details/membership-mixer-hosted-by-all-shined-up-car-wash-08-10-2016-1166
END:VEVENT

END:VCALENDAR
