BEGIN:VCALENDAR
VERSION:2.0
PRODID:-//ChamberMaster//Event Calendar 2.0//EN
METHOD:PUBLISH
X-PUBLISHED-TTL:P3D
REFRESH-INTERVAL:P3D
CALSCALE:GREGORIAN
BEGIN:VEVENT
DTSTART:20160526T203000Z
DTEND:20160526T223000Z
X-MICROSOFT-CDO-ALLDAYEVENT:FALSE
SUMMARY:Membership Mixer Hosted by Columbia Cottage
DESCRIPTION:Come Join Us For Our Membership Mixer Hosted By Columbia Cottage!
X-ALT-DESC;FMTTYPE=text/html:<strong>Come Join Us For Our Membership Mixer Hosted By Columbia Cottage!</strong>
LOCATION:Columbia Cottage 2288 Grandview Rd. Hanover\, PA 17331
UID:e.1500.1094
SEQUENCE:3
DTSTAMP:20260422T114737Z
URL:https://business.mainstreethanover.org/events/details/membership-mixer-hosted-by-columbia-cottage-05-26-2016-1094
END:VEVENT

END:VCALENDAR
