BEGIN:VCALENDAR
VERSION:2.0
PRODID:-//ChamberMaster//Event Calendar 2.0//EN
METHOD:PUBLISH
X-PUBLISHED-TTL:P3D
REFRESH-INTERVAL:P3D
CALSCALE:GREGORIAN
BEGIN:VEVENT
DTSTART:20180130T123000Z
DTEND:20180130T143000Z
X-MICROSOFT-CDO-ALLDAYEVENT:FALSE
SUMMARY:Membership Mixer Hosted by Guthrie Memorial Library
DESCRIPTION:Join the Hanover Chamber for this month's Membership Mixer!
X-ALT-DESC;FMTTYPE=text/html:Join the Hanover Chamber for this month&#39\;s Membership Mixer!
LOCATION:Guthrie Memorial Library 2 Library Pl Hanover\, PA 17331
UID:e.1500.3078
SEQUENCE:3
DTSTAMP:20260421T042353Z
URL:https://business.mainstreethanover.org/events/details/membership-mixer-hosted-by-guthrie-memorial-library-3078
END:VEVENT

END:VCALENDAR
