BEGIN:VCALENDAR
VERSION:2.0
PRODID:-//ChamberMaster//Event Calendar 2.0//EN
METHOD:PUBLISH
X-PUBLISHED-TTL:P3D
REFRESH-INTERVAL:P3D
CALSCALE:GREGORIAN
BEGIN:VEVENT
DTSTART:20170712T210000Z
DTEND:20170712T230000Z
X-MICROSOFT-CDO-ALLDAYEVENT:FALSE
SUMMARY:Membership Mixer hosted by Hanover Area Historical Society
DESCRIPTION:Membership mixer hosted by Hanover Area Historical Society
X-ALT-DESC;FMTTYPE=text/html:Membership mixer hosted by Hanover Area Historical Society&nbsp\; &nbsp\;
LOCATION:Warehime Myers Mansion 305 Baltimore St. Hanover\, PA 17331
UID:e.1500.2922
SEQUENCE:3
DTSTAMP:20260421T155158Z
URL:https://business.mainstreethanover.org/events/details/membership-mixer-hosted-by-hanover-area-historical-society-2922
END:VEVENT

END:VCALENDAR
