BEGIN:VCALENDAR
VERSION:2.0
PRODID:-//ChamberMaster//Event Calendar 2.0//EN
METHOD:PUBLISH
X-PUBLISHED-TTL:P3D
REFRESH-INTERVAL:P3D
CALSCALE:GREGORIAN
BEGIN:VEVENT
DTSTART:20180528T150000Z
DTEND:20180528T210000Z
X-MICROSOFT-CDO-ALLDAYEVENT:FALSE
SUMMARY:Memorial Day Summer Kick-Off
DESCRIPTION:Celebrate summer in style at the Farm Winery. Our Terrace Bistro will be open on Memorial Day this year\, with live music from Faded Denim on the Terrace.
X-ALT-DESC;FMTTYPE=text/html:Celebrate summer in style at the Farm Winery. Our Terrace Bistro will be open on Memorial Day this year\, with live music from Faded Denim on the Terrace.
LOCATION:Adams County Winery Farm Winery 251 Peach Tree Rd. Orrtanna\, PA 17353
UID:e.1500.4201
SEQUENCE:3
DTSTAMP:20260420T233647Z
URL:https://business.mainstreethanover.org/events/details/memorial-day-summer-kick-off-4201
END:VEVENT

END:VCALENDAR
