BEGIN:VCALENDAR
VERSION:2.0
PRODID:-//ChamberMaster//Event Calendar 2.0//EN
METHOD:PUBLISH
X-PUBLISHED-TTL:P3D
REFRESH-INTERVAL:P3D
CALSCALE:GREGORIAN
BEGIN:VEVENT
DTSTART:20150524T170000Z
DTEND:20150524T200000Z
X-MICROSOFT-CDO-ALLDAYEVENT:FALSE
SUMMARY:Memorial Day Weekend Picnic Day at Adams County Winery
DESCRIPTION:Join us at the Winery for a fun filled afternoon featuring live music with acoustic\, classic rock duo Philadelphia Avenue. There will be free wine tastings in our Tasting Room. Lawn games are available for guest use. Bring your own picnic lunch or visit our onsite Food Truck. This is a free\, family friendly event. No reservations are required. We will be holding this event rain or shine and have plenty of covered areas for guests. For more information please visit our website\, www.adamscountywinery.com\, or call 717-334-4631.
X-ALT-DESC;FMTTYPE=text/html:Join us at the Winery for a fun filled afternoon featuring live music with acoustic\, classic rock duo Philadelphia Avenue. There will be free wine tastings in our Tasting Room. Lawn games are available for guest use. Bring your own picnic lunch or visit our onsite Food Truck. This is a free\, family friendly event. No reservations are required. We will be holding this event rain or shine and have plenty of covered areas for guests. For more information please visit our website\, www.adamscountywinery.com\, or call 717-334-4631.
LOCATION:Adams County Winery 251 Peach Tree Rd Orrtanna PA 17353
UID:e.1500.865
SEQUENCE:3
DTSTAMP:20260423T055329Z
URL:https://business.mainstreethanover.org/events/details/memorial-day-weekend-picnic-day-at-adams-county-winery-05-24-2015-865
END:VEVENT

END:VCALENDAR
