BEGIN:VCALENDAR
VERSION:2.0
PRODID:-//ChamberMaster//Event Calendar 2.0//EN
METHOD:PUBLISH
X-PUBLISHED-TTL:P3D
REFRESH-INTERVAL:P3D
CALSCALE:GREGORIAN
BEGIN:VEVENT
DTSTART:20151026T230000Z
DTEND:20151027T010000Z
X-MICROSOFT-CDO-ALLDAYEVENT:FALSE
SUMMARY:Miss Hanover Pageant
DESCRIPTION:The Miss Hanover Pageant will be held on Monday\, October 26th starting @ 7:00 pm at Hanover High School.
X-ALT-DESC;FMTTYPE=text/html:<span style="font-family: &quot\;Times New Roman&quot\;\,&quot\;serif&quot\;\; font-size: 12pt\; mso-fareast-font-family: Calibri\; mso-fareast-theme-font: minor-latin\; mso-ansi-language: EN-US\; mso-fareast-language: EN-US\; mso-bidi-language: AR-SA\;"><font color="#000000">The Miss Hanover Pageant will be held on Monday\, October 26<sup>th</sup> starting @ 7:00 pm at Hanover High School. </font></span>
LOCATION:Hanover High School
UID:e.1500.989
SEQUENCE:3
DTSTAMP:20260422T214752Z
URL:https://business.mainstreethanover.org/events/details/miss-hanover-pageant-10-26-2015-989
END:VEVENT

END:VCALENDAR
