BEGIN:VCALENDAR
VERSION:2.0
PRODID:-//ChamberMaster//Event Calendar 2.0//EN
METHOD:PUBLISH
X-PUBLISHED-TTL:P3D
REFRESH-INTERVAL:P3D
CALSCALE:GREGORIAN
BEGIN:VEVENT
DTSTART:20180512T100000Z
DTEND:20180513T020000Z
X-MICROSOFT-CDO-ALLDAYEVENT:FALSE
SUMMARY:Mom's the Word: 2nd Saturday in Downtown
DESCRIPTION:Happy Mother's Day in downtown Hanover! Come enjoy a day downtown with your mom and indulge in promotions and activities that the merchants have to offer!
X-ALT-DESC;FMTTYPE=text/html:Happy Mother&#39\;s Day in downtown Hanover! Come enjoy a day downtown with your mom and indulge in promotions and activities that the merchants have to offer!
LOCATION:Downtown Hanover
UID:e.1500.4223
SEQUENCE:3
DTSTAMP:20260420T234056Z
URL:https://business.mainstreethanover.org/events/details/mom-s-the-word-2nd-saturday-in-downtown-4223
END:VEVENT

END:VCALENDAR
