BEGIN:VCALENDAR
VERSION:2.0
PRODID:-//ChamberMaster//Event Calendar 2.0//EN
METHOD:PUBLISH
X-PUBLISHED-TTL:P3D
REFRESH-INTERVAL:P3D
CALSCALE:GREGORIAN
BEGIN:VEVENT
DTSTART:20150510T160000Z
DTEND:20150510T160000Z
X-MICROSOFT-CDO-ALLDAYEVENT:FALSE
SUMMARY:Mother's Day Color Mixer - Paint Dogwood Blossoms
DESCRIPTION:An afternoon of painting & drinking with MOM & friends at the Bourbon Bar & Grill. Instructed by local artist and graphic designer\, Lacey French. Sunday\, May 10th at 1pm painting ?Dogwood Blossoms? No artistic ability needed. Limited Seating Register at www.thecolormixer.com or call 717.487.1254 $35/per person
X-ALT-DESC;FMTTYPE=text/html:An afternoon of painting &amp\; drinking with MOM &amp\; friends at the Bourbon Bar &amp\; Grill. Instructed by local artist and graphic designer\, Lacey French. Sunday\, May 10th at 1pm painting ?Dogwood Blossoms? No artistic ability needed. Limited Seating Register at www.thecolormixer.com or call 717.487.1254 $35/per person
LOCATION:Bourbon Bar and Grill 1080 Carlisle St Hanover PA
UID:e.1500.913
SEQUENCE:3
DTSTAMP:20260423T054759Z
URL:https://business.mainstreethanover.org/events/details/mother-s-day-color-mixer-paint-dogwood-blossoms-05-10-2015-913
END:VEVENT

END:VCALENDAR
