BEGIN:VCALENDAR
VERSION:2.0
PRODID:-//ChamberMaster//Event Calendar 2.0//EN
METHOD:PUBLISH
X-PUBLISHED-TTL:P3D
REFRESH-INTERVAL:P3D
CALSCALE:GREGORIAN
BEGIN:VEVENT
DTSTART:20180512T150000Z
DTEND:20180513T210000Z
X-MICROSOFT-CDO-ALLDAYEVENT:FALSE
SUMMARY:Mother's Day Picnic
DESCRIPTION:Pre-order a picnic basket of goodies and come out to the Farm Winery to enjoy a nice Mother's Day picnic (wine not included in basket). Live music will be provided by John Hufford on Saturday. Baskets must be ordered by May 9th and are $44.99. Please call 717-334-4631 to order your basket today!
X-ALT-DESC;FMTTYPE=text/html:Pre-order a picnic basket of goodies and come out to the Farm Winery to enjoy a nice Mother&rsquo\;s Day picnic (wine not included in basket). Live music will be provided by John Hufford on Saturday. Baskets must be ordered by May 9th and are $44.99. Please call 717-334-4631 to order your basket today!
LOCATION:Adams County Winery 251 Peach Tree Rd. Orrtanna\, PA 17353
UID:e.1500.4199
SEQUENCE:3
DTSTAMP:20260420T215333Z
URL:https://business.mainstreethanover.org/events/details/mother-s-day-picnic-4199
END:VEVENT

END:VCALENDAR
