BEGIN:VCALENDAR
VERSION:2.0
PRODID:-//ChamberMaster//Event Calendar 2.0//EN
METHOD:PUBLISH
X-PUBLISHED-TTL:P3D
REFRESH-INTERVAL:P3D
CALSCALE:GREGORIAN
BEGIN:VEVENT
DTSTART;VALUE=DATE:20150606
DTEND;VALUE=DATE:20150607
TRANSP:TRANSPARENT
X-MICROSOFT-CDO-ALLDAYEVENT:TRUE
SUMMARY:Museum of Bus Transportation Spring Fling
DESCRIPTION:The Museum of Bus Transportation invites you to their annual Spring Fling where visitors have the ability to see the largest collection of antique buses on display in the United States. Displays are located inside the AACA Museum and outside on the Museum grounds\, with a variety of modes of bus transportation   intercity\, transit\, school bus\, motor coach conversions. A shuttle bus provided by Wolf's Bus Lines will run every hour between the AACA Museum and the Museum of Bus Transportation George Sage collection annex for a great chance to view additional fleet vehicles not currently on public display. Donations will be accepted for the shuttle bus to help offset costs. Bus items will be available for purchase inside the AACA Museum with 20 tables of bus and transportation artifacts. Food and Beverages will also be available in the lower level gallery of the Museum. A special admission price of just $7.00 per person will be in place all day to make this fun and affordable! AACA Members and MBT Members have complimentary admission by showing their membership card.\n\nFor additional information contact thebusmuseum@yahoo.com
X-ALT-DESC;FMTTYPE=text/html:<p style="margin: 0in 0in 0.0001pt\; line-height: 115%\; vertical-align: baseline\; background-image: initial\; background-attachment: initial\; background-size: initial\; background-origin: initial\; background-clip: initial\; background-position: initial\; background-repeat: initial\;"><span style="font-size:10.5pt\;line-height:115%\;\nfont-family:&quot\;Arial&quot\;\,sans-serif\;color:black\;mso-themecolor:text1">The Museum of Bus Transportation invites you to their annual Spring Fling where visitors have the ability to see the largest collection of antique buses on display in the United States. <strong><span style="border: 1pt none windowtext\; padding: 0in\;">Displays</span></strong><span class="apple-converted-space">&nbsp\;</span>are located inside the AACA Museum and outside on the Museum grounds\, with a variety of modes of bus transportation &ndash\; intercity\, transit\, school bus\, motor coach conversions. <strong><span style="border: 1pt none windowtext\; padding: 0in\;">A shuttle bus provided by Wolf&rsquo\;s Bus Lines</span></strong><span class="apple-converted-space">&nbsp\;</span>will run every hour between the AACA Museum and the Museum of Bus Transportation George Sage collection annex for a great chance to view additional fleet vehicles not currently on public display. Donations will be accepted for the shuttle bus to help offset costs. <strong><span style="border: 1pt none windowtext\; padding: 0in\;">Bus items will be available</span></strong><span class="apple-converted-space">&nbsp\;</span>for purchase inside the AACA Museum with 20 tables of bus and transportation artifacts. <strong><span style="border: 1pt none windowtext\; padding: 0in\;">Food and Beverages</span></strong><span class="apple-converted-space">&nbsp\;</span>will also be available in the lower level gallery of the Museum. <strong><span style="border: 1pt none windowtext\; padding: 0in\;">A special admission price of just $7.00 per person</span></strong><span class="apple-converted-space">&nbsp\;</span>will be in place all day to make this fun and affordable! AACA Members and MBT Members have complimentary admission by showing their membership card.<o:p></o:p></span></p>\n\n<p style="margin: 0in 0in 0.0001pt\; line-height: 115%\; vertical-align: baseline\; background-image: initial\; background-attachment: initial\; background-size: initial\; background-origin: initial\; background-clip: initial\; background-position: initial\; background-repeat: initial\;"><span style="font-size:10.5pt\;line-height:115%\;\nfont-family:&quot\;Arial&quot\;\,sans-serif\;color:black\;mso-themecolor:text1">For additional information contact thebusmuseum@yahoo.com<o:p></o:p></span></p>\n
LOCATION:AACA Museum 161 Museum Drive Hershey\, PA 17033
UID:e.1500.856
SEQUENCE:3
DTSTAMP:20260423T042151Z
URL:https://business.mainstreethanover.org/events/details/museum-of-bus-transportation-spring-fling-06-06-2015-856
END:VEVENT

END:VCALENDAR
