BEGIN:VCALENDAR
VERSION:2.0
PRODID:-//ChamberMaster//Event Calendar 2.0//EN
METHOD:PUBLISH
X-PUBLISHED-TTL:P3D
REFRESH-INTERVAL:P3D
CALSCALE:GREGORIAN
BEGIN:VEVENT
DTSTART:20180609T180000Z
DTEND:20180609T210000Z
X-MICROSOFT-CDO-ALLDAYEVENT:FALSE
SUMMARY:Music at the Farm
DESCRIPTION:Join us at the Farm Winery for a relaxing afternoon of acoustic music: June 9: Elijah Cross June 16: Matt Runciman
X-ALT-DESC;FMTTYPE=text/html:Join us at the Farm Winery for a relaxing afternoon of acoustic music: June 9: Elijah Cross June 16: Matt Runciman
LOCATION:Adams County Winery 251 Peach Tree Rd Orrtanna\, PA 17353
UID:e.1500.4202
SEQUENCE:3
DTSTAMP:20260420T200200Z
URL:https://business.mainstreethanover.org/events/details/music-at-the-farm-4202
END:VEVENT

END:VCALENDAR
