BEGIN:VCALENDAR
VERSION:2.0
PRODID:-//ChamberMaster//Event Calendar 2.0//EN
METHOD:PUBLISH
X-PUBLISHED-TTL:P3D
REFRESH-INTERVAL:P3D
CALSCALE:GREGORIAN
BEGIN:VEVENT
DTSTART;VALUE=DATE:20170330
DTEND;VALUE=DATE:20170331
TRANSP:TRANSPARENT
X-MICROSOFT-CDO-ALLDAYEVENT:TRUE
SUMMARY:National Doctor's Day
DESCRIPTION:March 30 is a day when patients and families can recognize physicians and express their appreciation for the impact those doctors have made on their lives.
X-ALT-DESC;FMTTYPE=text/html:March 30 is a day when patients and families can recognize physicians and express their appreciation for the impact those doctors have made on their lives.&nbsp\;
LOCATION:
UID:e.1500.2496
SEQUENCE:3
DTSTAMP:20260421T200903Z
URL:https://business.mainstreethanover.org/events/details/national-doctor-s-day-2496
END:VEVENT

END:VCALENDAR
