BEGIN:VCALENDAR
VERSION:2.0
PRODID:-//ChamberMaster//Event Calendar 2.0//EN
METHOD:PUBLISH
X-PUBLISHED-TTL:P3D
REFRESH-INTERVAL:P3D
CALSCALE:GREGORIAN
BEGIN:VEVENT
DTSTART:20181010T160000Z
DTEND:20181010T173000Z
X-MICROSOFT-CDO-ALLDAYEVENT:FALSE
SUMMARY:New HR Seminar Series: Tools to Address HR Issues By Leslie Elsner Bell\, Executive Director\, Granite HR Consulting\, LLC
DESCRIPTION:You have finally hired someone for that hard-to-fill job but that doesn't end your employment woes. Tardiness\, poor quality work\, disruptive behavior\, and not performing to your company's standards have cropped up. If you think ignoring these and other employee issues will make them go away\, you are sadly mistaken. As we discussed in our August article\, "Recruiting and Interviewing for Hiring Managers\," there is a labor shortage in many skilled positions and unemployment is at a record low\, so keeping employees is vital.\n\n\n\nOf course\, employee issues can happen at any stage in the employment relationship\, from initial hire to long-time worker. No matter when the trouble occurs\, an employer must take swift and decisive action because a belief that management is avoiding a problem or giving preferential treatment to an employee can damage an organization's credibility.\n\n\n\nInaction also erodes employees' trust in management\, fractures teams\, and can lead to charges of unlawful discrimination.\n\n\n\nBefore resorting to firing an employee\, managers should have a toolbox of options to address the problems\, including Coaching\, Counseling and Disciplinary Action (The topic of our Oct. 10 HR Seminar).  In addition\, a company should clearly define the expectations of the job with resources such as a job description and clearly define the workplace culture through tools such as a current employee handbook. Managers should use coaching to promote self-awareness and explain performance expectations. Done well\, a manager can clarify work responsibilities\, reinforce positive behaviors\, and address any performance deficiencies. This process precedes any kind of disciplinary action\, possibly preventing the loss of an employee who was so difficult to find in the first place.\n\n\n\nTo understand how to improve performance and stem the loss of employees\, plan to attend the second of three HR seminars on Tools to Address HR Issues on October 10 from noon to 1:30 p.m. to learn more about how to implement Coaching\, Counseling\, and Disciplinary Action techniques. For more information about the author and presenter\, go to www.GraniteHRConsulting.com.
X-ALT-DESC;FMTTYPE=text/html:<br />\n<span style="font-size:12px\;"><span style="font-family:arial\;">You have finally hired someone for that hard-to-fill job but that doesn&rsquo\;t end your employment woes. Tardiness\, poor quality work\, disruptive behavior\, and not performing to your company&rsquo\;s standards have cropped up. If you think ignoring these and other employee issues will make them go away\, you are sadly mistaken. As we discussed in our August article\, &ldquo\;Recruiting and Interviewing for Hiring Managers\,&rdquo\; there is a labor shortage in many skilled positions and unemployment is at a record low\, so keeping employees is vital.<br />\n<br />\nOf course\, employee issues can happen at any stage in the employment relationship\, from initial hire to long-time worker. No matter when the trouble occurs\, an employer must take swift and decisive action because a belief that management is avoiding a problem or giving preferential treatment to an employee can damage an organization&rsquo\;s credibility.<br />\n<br />\nInaction also erodes employees&rsquo\; trust in management\, fractures teams\, and can lead to charges of unlawful discrimination.<br />\n<br />\nBefore resorting to firing an employee\, managers should have a toolbox of options to address the problems\, including <strong><em>Coaching\, Counseling and Disciplinary Action </em></strong>(The topic of our Oct. 10 HR Seminar).&nbsp\; In addition\, a company should clearly define the expectations of the job with resources such as a job description and clearly define the workplace culture through tools such as a current employee handbook. Managers should use coaching to promote self-awareness and explain performance expectations. Done well\, a manager can clarify work responsibilities\, reinforce positive behaviors\, and address any performance deficiencies. This process precedes any kind of disciplinary action\, possibly preventing the loss of an employee who was so difficult to find in the first place.<br />\n<br />\nTo understand how to improve performance and stem the loss of employees\, plan to attend the second of three HR seminars on <strong><u>Tools to Address HR Issues</u></strong> on October 10 from noon to 1:30 p.m. to learn more about how to implement <strong><em>Coaching\, Counseling\, and Disciplinary Action </em></strong>techniques. For more information about the author and presenter\, go to <a href="http://www.GraniteHRConsulting.com">www.GraniteHRConsulting.com</a>.</span></span>
LOCATION:Hanover Area Chamber of Commerce 146 Carlisle St. Hanover\, PA 17331
UID:e.1500.4275
SEQUENCE:3
DTSTAMP:20260420T133101Z
URL:https://business.mainstreethanover.org/events/details/new-hr-seminar-series-tools-to-address-hr-issues-by-leslie-elsner-bell-executive-director-granite-hr-consulting-llc-4275
END:VEVENT

END:VCALENDAR
