BEGIN:VCALENDAR
VERSION:2.0
PRODID:-//ChamberMaster//Event Calendar 2.0//EN
METHOD:PUBLISH
X-PUBLISHED-TTL:P3D
REFRESH-INTERVAL:P3D
CALSCALE:GREGORIAN
BEGIN:VEVENT
DTSTART;VALUE=DATE:20151021
DTEND;VALUE=DATE:20151101
TRANSP:TRANSPARENT
X-MICROSOFT-CDO-ALLDAYEVENT:TRUE
SUMMARY:October is Domestice Violence Awareness Month- YWCA
DESCRIPTION:Safe Home/YWCA of Hanover:  Serving victims of domestic/dating violence and their children in York and Adams Counties since 1981\, we are a program of the YWCA of Hanover\, a nonprofit United Way agency.  We offer a 24 hour hotline\, emergency housing\, legal & medical advocacy\, crisis intervention\, transportation\, support group w/ free childcare\, counseling for adults and children\, referrals\, community outreach & education\, and volunteer training.\n\nMaterial Needs: \n\nGrocery cards/certificates\, Gas cards\, and Fuel/utility certificates\n\nDead bolt locks and Peep holes\n\nDouble AA batteries\n\nNon-perishable food items\n\nPaper products (toilet paper\, paper towels\, tissues)\n\nGarbage bags (large)\n\nCleaning supplies & Laundry detergent\n\nPhone/Calling cards\n\nDiapers size 3 and larger\n\nPull-ups (boys and girls)\n\nBaby supplies/toiletries (wipes\, lotion\, shampoo\, etc.)\n\nNew children's clothing           (all ages)     \n\nNew backpacks for students              \n\n \n\n \n\n \n\nFinancial Donations help us offer shelter\, child therapy & other critical services:\n\nMake checks payable to "YWCA Safe Home."\n\n \n\nFor more information:  \n\n \n\nSafe Home/YWCA of Hanover\, (24 Hour Hotline) 717-632-0007 www.ywcahanover.org
X-ALT-DESC;FMTTYPE=text/html:<span style="font-size: medium\;"><span style="font-family: times new roman\;"><strong>Safe Home/YWCA of Hanover</strong>:&nbsp\; <em><span style="font-size: 11pt\;">Serving victims of domestic/dating violence and their children in York and Adams Counties since 1981\, we are a program of the YWCA of Hanover\, a nonprofit United Way agency.&nbsp\; We offer a 24 hour hotline\, emergency housing\, legal &amp\; medical advocacy\, crisis intervention\, transportation\, support group w/ free childcare\, counseling for adults and children\, referrals\, community outreach &amp\; education\, and volunteer training.</span></em></span></span><br />\n<strong><span style="font-size: medium\;"><span style="font-family: times new roman\;"><u>Material Needs</u>: </span></span></strong><br />\n<span style="font-size: 11pt\;"><span style="font-family: times new roman\;">Grocery cards/certificates\, Gas cards\, and Fuel/utility certificates</span></span><br />\n<span style="font-size: 11pt\;"><span style="font-family: times new roman\;">Dead bolt locks and Peep holes</span></span><br />\n<span style="font-size: 11pt\;"><span style="font-family: times new roman\;">Double AA batteries</span></span><br />\n<span style="font-size: 11pt\;"><span style="font-family: times new roman\;">Non-perishable food items</span></span><br />\n<span style="font-size: 11pt\;"><span style="font-family: times new roman\;">Paper products (toilet paper\, paper towels\, tissues)</span></span><br />\n<span style="font-size: 11pt\;"><span style="font-family: times new roman\;">Garbage bags (large)</span></span><br />\n<span style="font-size: 11pt\;"><span style="font-family: times new roman\;">Cleaning supplies &amp\; Laundry detergent</span></span><br />\n<span style="font-size: 11pt\;"><span style="font-family: times new roman\;">Phone/Calling cards</span></span><br />\n<span style="font-size: 11pt\;"><span style="font-family: times new roman\;">Diapers size 3 and larger</span></span><br />\n<span style="font-size: 11pt\;"><span style="font-family: times new roman\;">Pull-ups (boys and girls)</span></span><br />\n<span style="font-size: 11pt\;"><span style="font-family: times new roman\;">Baby supplies/toiletries (wipes\, lotion\, shampoo\, etc.)</span></span><br />\n<span style="font-family: times new roman\;"><u><span style="font-size: 11pt\;">New</span></u><span style="font-size: 11pt\;"> children&rsquo\;s clothing&nbsp\;&nbsp\;&nbsp\;&nbsp\;&nbsp\;&nbsp\;&nbsp\;&nbsp\;&nbsp\;&nbsp\; (all ages)&nbsp\;&nbsp\;&nbsp\;&nbsp\; </span></span><br />\n<span style="font-family: times new roman\;"><u><span style="font-size: 11pt\;">New</span></u><span style="font-size: 11pt\;"> backpacks for students&nbsp\;&nbsp\;&nbsp\;&nbsp\;&nbsp\;&nbsp\;&nbsp\;&nbsp\;&nbsp\;&nbsp\;&nbsp\;&nbsp\;&nbsp\; </span></span><br />\n&nbsp\;<br />\n&nbsp\;<br />\n&nbsp\;<br />\n<strong><span style="font-size: 11pt\;"><span style="font-family: times new roman\;">Financial Donations help us offer shelter\, child therapy &amp\; other critical services:</span></span></strong><br />\n<strong><span style="font-size: 11pt\;"><span style="font-family: times new roman\;">Make checks payable to &ldquo\;YWCA Safe Home.&rdquo\;</span></span></strong><br />\n&nbsp\;<br />\n<strong><span style="font-size: 11pt\;"><span style="font-family: times new roman\;">For more information:&nbsp\; </span></span></strong><br />\n&nbsp\;<br />\n<span style="font-size: 11pt\;"><span style="font-family: times new roman\;">Safe Home/YWCA of Hanover\, (24 Hour Hotline) 717-632-0007 </span><a href="http://www.ywcahanover.org/" title="http://www.ywcahanover.org"><span style="color: blue\;"><span style="font-family: times new roman\;">www.ywcahanover.org</span></span></a></span><br />\n&nbsp\;<br />\n&nbsp\;<br />\n<br />\n&nbsp\;<br />\n&nbsp\;<br />\n&nbsp\;
LOCATION:Safe Home/YWCA of Hanover
UID:e.1500.1012
SEQUENCE:3
DTSTAMP:20260422T215418Z
URL:https://business.mainstreethanover.org/events/details/october-is-domestice-violence-awareness-month-ywca-10-21-2015-1012
END:VEVENT

END:VCALENDAR
