BEGIN:VCALENDAR
VERSION:2.0
PRODID:-//ChamberMaster//Event Calendar 2.0//EN
METHOD:PUBLISH
X-PUBLISHED-TTL:P3D
REFRESH-INTERVAL:P3D
CALSCALE:GREGORIAN
BEGIN:VEVENT
DTSTART:20161008T040000Z
DTEND:20161008T160000Z
X-MICROSOFT-CDO-ALLDAYEVENT:FALSE
SUMMARY:Oktoberfest
DESCRIPTION:Downtown and local businesses and vendors have paired up to offer samples of food\, wine\, and beer in various locations around downtown Hanover! Ticket holders will stroll around the downtown visiting different businesses and tasting a variety of wines\, beers\, and food from local establishments! Participants will also enjoy live music and special deals on a variety of in-store items.
X-ALT-DESC;FMTTYPE=text/html:Downtown and local businesses and vendors have paired up to offer samples of food\, wine\, and beer in various locations around downtown Hanover! Ticket holders will stroll around the downtown visiting different businesses and tasting a variety of wines\, beers\, and food from local establishments! Participants will also enjoy live music and special deals on a variety of in-store items.
LOCATION:Various Locations throughout Downtown Hanover 1 Center Square Hanover\, PA 17331
UID:e.1500.1130
SEQUENCE:3
DTSTAMP:20260422T035843Z
URL:https://business.mainstreethanover.org/events/details/oktoberfest-10-08-2016-1130
END:VEVENT

END:VCALENDAR
