BEGIN:VCALENDAR
VERSION:2.0
PRODID:-//ChamberMaster//Event Calendar 2.0//EN
METHOD:PUBLISH
X-PUBLISHED-TTL:P3D
REFRESH-INTERVAL:P3D
CALSCALE:GREGORIAN
BEGIN:VEVENT
DTSTART:20150704T210000Z
DTEND:20150705T010000Z
X-MICROSOFT-CDO-ALLDAYEVENT:FALSE
SUMMARY:Old Fashioned 4th of July
DESCRIPTION:We're keeping the Museum open late on July 4th! Tour the Museum from 5 to 9 pm for just $7.00 per person. Don't forget your blankets and chairs to enjoy an old-fashioned picnic on the grass while you await the fireworks by Hersheypark. Perched up on the hill overlooking the town of Hershey\, this is the perfect place to stay and watch the fireworks!\n\nWe currently have an ice cream and beverage vendor that is scheduled to be with us or feel free to bring your own snacks. No alcoholic beverages permitted.
X-ALT-DESC;FMTTYPE=text/html:<p style="margin: 0px\; padding: 0px 0px 10px\; outline: 0px\; border: 0px currentColor\; color: rgb(85\, 85\, 85)\; line-height: 24px\; font-family: &quot\;Open Sans&quot\;\, Arial\, sans-serif\; font-size: 14px\; vertical-align: baseline\;">We&rsquo\;re keeping the Museum open late on July 4th! Tour the Museum from 5 to 9 pm for just $7.00 per person. Don&rsquo\;t forget your blankets and chairs to enjoy an old-fashioned picnic on the grass while you await the fireworks by Hersheypark. Perched up on the hill overlooking the town of Hershey\, this is the perfect place to stay and watch the fireworks!</p>\n\n<p style="margin: 0px\; padding: 0px 0px 10px\; outline: 0px\; border: 0px currentColor\; color: rgb(85\, 85\, 85)\; line-height: 24px\; font-family: &quot\;Open Sans&quot\;\, Arial\, sans-serif\; font-size: 14px\; vertical-align: baseline\;">We currently have an ice cream and beverage vendor that is scheduled to be with us or feel free to bring your own snacks. No alcoholic beverages permitted.</p>\n
LOCATION:AACA Museum 161 Museum Drive Hershey\, PA 17033
UID:e.1500.906
SEQUENCE:3
DTSTAMP:20260423T022322Z
URL:https://business.mainstreethanover.org/events/details/old-fashioned-4th-of-july-07-04-2015-906
END:VEVENT

END:VCALENDAR
