BEGIN:VCALENDAR
VERSION:2.0
PRODID:-//ChamberMaster//Event Calendar 2.0//EN
METHOD:PUBLISH
X-PUBLISHED-TTL:P3D
REFRESH-INTERVAL:P3D
CALSCALE:GREGORIAN
BEGIN:VEVENT
DTSTART:20151120T223000Z
DTEND:20151121T010000Z
X-MICROSOFT-CDO-ALLDAYEVENT:FALSE
SUMMARY:Opening Reception: It's a Small World\, Mini and Micro Cars
DESCRIPTION:Be one of the first to see the AACA Museum decked out for the holidays with dozens of themed trees\, model train exhibits and more!\n\nSpecial attractions this year: It's a Small World   Micro & Mini Cars exhibit\; Chitty Chitty Bang Bang US National Broadway Touring Prop Car and a larger than life pedal car!\n\nTickets for this special event are just $15 per person and will include admission to the AACA Museum exhibit along with light snacks and beverages. Advance reservations are required.\n\nTickets can also be purchased here at the AACA Museum ticket counter and over the phone 717-566-7100 ext. 100
X-ALT-DESC;FMTTYPE=text/html:<p style="color: rgb(34\, 34\, 34)\; line-height: normal\; font-family: arial\, sans-serif\; font-size: 12.8px\;">Be one of the first to see the AACA Museum decked out for the holidays with dozens of themed trees\, model train exhibits and more!</p>\n\n<p style="color: rgb(34\, 34\, 34)\; line-height: normal\; font-family: arial\, sans-serif\; font-size: 12.8px\;">Special attractions this year: It&rsquo\;s a Small World &ndash\; Micro &amp\; Mini Cars exhibit\; Chitty Chitty Bang Bang US National Broadway Touring Prop Car and a larger than life pedal car!</p>\n\n<p style="color: rgb(34\, 34\, 34)\; line-height: normal\; font-family: arial\, sans-serif\; font-size: 12.8px\;">Tickets for this special event are just $15 per person and will include admission to the AACA Museum exhibit along with light snacks and beverages.&nbsp\;Advance reservations are required.</p>\n\n<p style="color: rgb(34\, 34\, 34)\; line-height: normal\; font-family: arial\, sans-serif\; font-size: 12.8px\;">Tickets can also be purchased here at the AACA Museum ticket counter and over the phone&nbsp\;<a href="tel:717-566-7100%20ext.%20100" style="color: rgb(17\, 85\, 204)\;" target="_blank" value="+17175667100">717-566-7100 ext. 100</a></p>\n
LOCATION:AACA Museum 161 Museum Drive Hershey\, PA 17033
UID:e.1500.985
SEQUENCE:3
DTSTAMP:20260422T201208Z
URL:https://business.mainstreethanover.org/events/details/opening-reception-it-s-a-small-world-mini-and-micro-cars-11-20-2015-985
END:VEVENT

END:VCALENDAR
