BEGIN:VCALENDAR
VERSION:2.0
PRODID:-//ChamberMaster//Event Calendar 2.0//EN
METHOD:PUBLISH
X-PUBLISHED-TTL:P3D
REFRESH-INTERVAL:P3D
CALSCALE:GREGORIAN
BEGIN:VEVENT
DTSTART:20150418T190000Z
DTEND:20150419T000000Z
X-MICROSOFT-CDO-ALLDAYEVENT:FALSE
SUMMARY:Operation Helping Hands- The National Christian Choir
DESCRIPTION:The National Christian Choir\n\nCome and Be Blessed By Operation Helping Hands
X-ALT-DESC;FMTTYPE=text/html:The National Christian Choir<br />\nCome and Be Blessed By Operation Helping Hands
LOCATION:New Oxford High School Auditorium 130 Berlin Road New Oxford\, PA 17350
UID:e.1500.902
SEQUENCE:3
DTSTAMP:20260423T074059Z
URL:https://business.mainstreethanover.org/events/details/operation-helping-hands-the-national-christian-choir-04-18-2015-902
END:VEVENT

END:VCALENDAR
