BEGIN:VCALENDAR
VERSION:2.0
PRODID:-//ChamberMaster//Event Calendar 2.0//EN
METHOD:PUBLISH
X-PUBLISHED-TTL:P3D
REFRESH-INTERVAL:P3D
CALSCALE:GREGORIAN
BEGIN:VEVENT
DTSTART:20170912T153000Z
DTEND:20170912T180000Z
X-MICROSOFT-CDO-ALLDAYEVENT:FALSE
SUMMARY:Out of Office: Dealing with Leave of Absence Issues
DESCRIPTION:Join Stock and Leader's Employment Law Group for a lunch program addressing employee leave of absence issues and what employers need to know about handling them.\n\n\n	Leave requirements under the FMLA\, ADA and the Pregnancy Discrimination Act\n	Handling the Problem Employee: Minimizing endless leave extensions and 3-day weekends\n	How to Use Sick Leave and Disability Insurance to Effectively Manage Leave of Absences\n\n\n$50 registration fee required by September 5.\n\nThis program has been submitted to the HR Certification Institute for Review.\n\nThis program may be submitted for SHRM credits.\n\nNo-shows will not be refunded but will recieve program materials.
X-ALT-DESC;FMTTYPE=text/html:<p>Join <a href="http://www.stockandleader.com/">Stock and Leader&#39\;s</a> <a href="http://www.stockandleader.com/business-law/employment-labor-attorneys">Employment Law Group</a> for a lunch program addressing employee leave of absence issues and what employers need to know about handling them.</p>\n\n<ul>\n	<li><em>Leave requirements under the&nbsp\;</em><em>FMLA\, ADA and the Pregnancy Discrimination Act</em></li>\n	<li><em>Handling the Problem Employee: Minimizing endless leave extensions and 3-day weekends</em></li>\n	<li><em>How to Use Sick Leave and Disability Insurance to Effectively Manage Leave of Absences</em></li>\n</ul>\n\n<p>$50 registration fee required by September 5.</p>\n\n<p>This program has been submitted to the HR Certification Institute for Review.</p>\n\n<p>This program may be submitted for SHRM credits.</p>\n\n<p>No-shows will not be refunded but will recieve program materials.</p>\n
LOCATION:Country Club of York 1400 Country Club Road York\, PA 17403
UID:e.1500.2942
SEQUENCE:3
DTSTAMP:20260421T105016Z
URL:https://business.mainstreethanover.org/events/details/out-of-office-dealing-with-leave-of-absence-issues-2942
END:VEVENT

END:VCALENDAR
