BEGIN:VCALENDAR
VERSION:2.0
PRODID:-//ChamberMaster//Event Calendar 2.0//EN
METHOD:PUBLISH
X-PUBLISHED-TTL:P3D
REFRESH-INTERVAL:P3D
CALSCALE:GREGORIAN
BEGIN:VEVENT
DTSTART:20170518T160000Z
DTEND:20170518T210000Z
X-MICROSOFT-CDO-ALLDAYEVENT:FALSE
SUMMARY:PA Career Link Hiring Fair
DESCRIPTION:2nd annual Hanover Hiring Fair
X-ALT-DESC;FMTTYPE=text/html:2nd annual Hanover Hiring Fair&nbsp\;&nbsp\;
LOCATION:North Hanover Mall 1155 Carlisle St\, Hanover\, PA 17331
UID:e.1500.2921
SEQUENCE:3
DTSTAMP:20260421T183251Z
URL:https://business.mainstreethanover.org/events/details/pa-career-link-hiring-fair-2921
END:VEVENT

END:VCALENDAR
