BEGIN:VCALENDAR
VERSION:2.0
PRODID:-//ChamberMaster//Event Calendar 2.0//EN
METHOD:PUBLISH
X-PUBLISHED-TTL:P3D
REFRESH-INTERVAL:P3D
CALSCALE:GREGORIAN
BEGIN:VEVENT
DTSTART:20160513T210000Z
DTEND:20160514T010000Z
X-MICROSOFT-CDO-ALLDAYEVENT:FALSE
SUMMARY:PaintNITE Fundraising Event for TrueNorth Wellness Services
DESCRIPTION:Doors & Kitchen open at 5pm\n\nPainting begins at 7pm \n\n \n\nTickets are $45. Purchase them today at paintnite.com\n\n \n\n\n\nEvent benefits our Residential Services
X-ALT-DESC;FMTTYPE=text/html:<strong><span style="color:#00B050"><span style="font-size:20.0pt">Doors &amp\; Kitchen open at 5pm</span></span></strong><br />\n<strong><span style="color:#00B050"><span style="font-size:20.0pt">Painting begins at 7pm </span></span></strong><br />\n&nbsp\;<br />\n<strong><span style="color:#6600FF"><span style="font-size:20.0pt">Tickets are $45. Purchase them today at </span></span></strong><strong><span style="color:#D60093"><span style="font-size:36.0pt">paintnite.com</span></span></strong><br />\n&nbsp\;<br />\n<br />\n<strong><em><span style="color:#0070C0"><span style="font-family:arial\,sans-serif"><span style="font-size:16.0pt">Event benefits our Residential Services</span></span></span></em></strong>
LOCATION:New Oxford Social Club\, 200 W. Golden Ln.\, New Oxford\, PA 17350
UID:e.1500.1105
SEQUENCE:3
DTSTAMP:20260422T115044Z
URL:https://business.mainstreethanover.org/events/details/paintnite-fundraising-event-for-truenorth-wellness-services-05-13-2016-1105
END:VEVENT

END:VCALENDAR
