BEGIN:VCALENDAR
VERSION:2.0
PRODID:-//ChamberMaster//Event Calendar 2.0//EN
METHOD:PUBLISH
X-PUBLISHED-TTL:P3D
REFRESH-INTERVAL:P3D
CALSCALE:GREGORIAN
BEGIN:VEVENT
DTSTART:20160723T140000Z
DTEND:20160723T200000Z
X-MICROSOFT-CDO-ALLDAYEVENT:FALSE
SUMMARY:Panebaker Funeral Home Cremation Care Center Open House
DESCRIPTION:Panebaker Funeral Home invites you to join us for an open house at our new\n\nCremation Care Center and Loyal Companion Pet Cremation.
X-ALT-DESC;FMTTYPE=text/html:<span style="font-size: 10pt\; font-family: Georgia\, serif\;">Panebaker Funeral Home invites you to join us for an open house at our new<br />\nCremation Care Center and Loyal Companion Pet Cremation.</span>
LOCATION:43 Amy Way\, off of Gitts Run Road in Hanover
UID:e.1500.1162
SEQUENCE:3
DTSTAMP:20260422T084520Z
URL:https://business.mainstreethanover.org/events/details/panebaker-funeral-home-cremation-care-center-open-house-07-23-2016-1162
END:VEVENT

END:VCALENDAR
