BEGIN:VCALENDAR
VERSION:2.0
PRODID:-//ChamberMaster//Event Calendar 2.0//EN
METHOD:PUBLISH
X-PUBLISHED-TTL:P3D
REFRESH-INTERVAL:P3D
CALSCALE:GREGORIAN
BEGIN:VEVENT
DTSTART:20150515T113000Z
DTEND:20150515T133000Z
X-MICROSOFT-CDO-ALLDAYEVENT:FALSE
SUMMARY:Pre-K for PA York Breakfast
DESCRIPTION:HOST COMMITTEE\n\nState Representative Stan Saylor\n\nState Representative Kevin Schreiber\n\nYork County Commissioner Chris\n\nReilly\n\nYork County District Attorney Thomas\n\nKearney\n\nYork County Sheriff Richard Keuerleber\n\nYork City Police Chief Wesley Kahley\n\nCordially Invite You to\n\nPre-K for PA York Breakfast\n\nSponsored by PNC Bank
X-ALT-DESC;FMTTYPE=text/html:<p align="LEFT"><b><font color="#535353" face="BookAntiqua-Bold" size="5"><font color="#535353" face="BookAntiqua-Bold" size="5"><font color="#535353" face="BookAntiqua-Bold" size="5">HOST COMMITTEE</font></font></font></b></p>\n\n<p align="LEFT"><font color="#535353" face="BookAntiqua"><font color="#535353" face="BookAntiqua">State Representative Stan Saylor</font></font></p>\n\n<p align="LEFT"><font color="#535353" face="BookAntiqua"><font color="#535353" face="BookAntiqua">State Representative Kevin Schreiber</font></font></p>\n\n<p align="LEFT"><font color="#535353" face="BookAntiqua"><font color="#535353" face="BookAntiqua">York County Commissioner Chris</font></font></p>\n\n<p align="LEFT"><font color="#535353" face="BookAntiqua"><font color="#535353" face="BookAntiqua">Reilly</font></font></p>\n\n<p align="LEFT"><font color="#535353" face="BookAntiqua"><font color="#535353" face="BookAntiqua">York County District Attorney Thomas</font></font></p>\n\n<p align="LEFT"><font color="#535353" face="BookAntiqua"><font color="#535353" face="BookAntiqua">Kearney</font></font></p>\n\n<p align="LEFT"><font color="#535353" face="BookAntiqua"><font color="#535353" face="BookAntiqua">York County Sheriff Richard Keuerleber</font></font></p>\n\n<p align="LEFT"><font color="#535353" face="BookAntiqua"><font color="#535353" face="BookAntiqua">York City Police Chief Wesley Kahley</font></font></p>\n\n<p align="LEFT"><b><font color="#535353" face="BookAntiqua-Bold" size="5"><font color="#535353" face="BookAntiqua-Bold" size="5"><font color="#535353" face="BookAntiqua-Bold" size="5">Cordially Invite You to</font></font></font></b></p>\n\n<p align="LEFT"><b><font color="#535353" face="BookAntiqua-Bold" size="5"><font color="#535353" face="BookAntiqua-Bold" size="5"><font color="#535353" face="BookAntiqua-Bold" size="5">Pre-K for PA York Breakfast</font></font></font></b></p>\n\n<p><b><i><font color="#535353" face="BookAntiqua-BoldItalic" size="5"><font color="#535353" face="BookAntiqua-BoldItalic" size="5"><font color="#535353" face="BookAntiqua-BoldItalic" size="5">Sponsored by PNC Bank</font></font></font></i></b></p>\n
LOCATION:Wyndham Garden York 2000 Loucks Road York\,PA 19406
UID:e.1500.904
SEQUENCE:3
DTSTAMP:20260423T054400Z
URL:https://business.mainstreethanover.org/events/details/pre-k-for-pa-york-breakfast-05-15-2015-904
END:VEVENT

END:VCALENDAR
