BEGIN:VCALENDAR
VERSION:2.0
PRODID:-//ChamberMaster//Event Calendar 2.0//EN
METHOD:PUBLISH
X-PUBLISHED-TTL:P3D
REFRESH-INTERVAL:P3D
CALSCALE:GREGORIAN
BEGIN:VEVENT
DTSTART:20181004T160000Z
DTEND:20181004T210000Z
X-MICROSOFT-CDO-ALLDAYEVENT:FALSE
SUMMARY:Proud to Manufacture in PA
DESCRIPTION:Come celebrate local manufacturers and all their accomplishments on October 4\, 2018 at Wyndridge Farm from 12:00 to 5:00 pm! Our Proud to Manufacture in PA event will have educational and entertaining speakers along with hands on activities to get you out of your seat and involved. This year our event will end with a happy hour to allow our guests to network and enjoy a beverage (or two)! We hope to see you there! Manufacturing companies receive 50% off registration fees! Register at mantec.org/beer
X-ALT-DESC;FMTTYPE=text/html:<div>\n<p><span style="font-family:inherit">Come celebrate local manufacturers and all their accomplishments on October 4\, 2018 at Wyndridge Farm from 12:00 to 5:00 pm! Our Proud to Manufacture in PA event will have educational and entertaining speakers along with hands on activities to get you out of your seat and involved. This year our event will end with a happy hour to allow our guests to network and enjoy a beverage (or two)! We hope to see you there! Manufacturing companies receive 50% off registration fees! Register at mantec.org/beer</span></p>\n\n<div>&nbsp\;</div>\n</div>\n
LOCATION:Wyndridge Farm 885 S Pleasant Ave\, Dallastown\, PA 17313
UID:e.1500.4293
SEQUENCE:3
DTSTAMP:20260420T132723Z
URL:https://business.mainstreethanover.org/events/details/proud-to-manufacture-in-pa-4293
END:VEVENT

END:VCALENDAR
