BEGIN:VCALENDAR
VERSION:2.0
PRODID:-//ChamberMaster//Event Calendar 2.0//EN
METHOD:PUBLISH
X-PUBLISHED-TTL:P3D
REFRESH-INTERVAL:P3D
CALSCALE:GREGORIAN
BEGIN:VEVENT
DTSTART:20150425T123000Z
DTEND:20150425T140000Z
X-MICROSOFT-CDO-ALLDAYEVENT:FALSE
SUMMARY:Race Against Racism- YWCA
DESCRIPTION:Race Against Racism
X-ALT-DESC;FMTTYPE=text/html:Race Against Racism
LOCATION:Moul Field Hanover\, PA 17331
UID:e.1500.899
SEQUENCE:3
DTSTAMP:20260423T074053Z
URL:https://business.mainstreethanover.org/events/details/race-against-racism-ywca-04-25-2015-899
END:VEVENT

END:VCALENDAR
