BEGIN:VCALENDAR
VERSION:2.0
PRODID:-//ChamberMaster//Event Calendar 2.0//EN
METHOD:PUBLISH
X-PUBLISHED-TTL:P3D
REFRESH-INTERVAL:P3D
CALSCALE:GREGORIAN
BEGIN:VEVENT
DTSTART:20151106T130000Z
DTEND:20151106T143000Z
X-MICROSOFT-CDO-ALLDAYEVENT:FALSE
SUMMARY:Regional Roundtable: ADULT DEPRESSION
DESCRIPTION:Regional Roundtable:  ADULT DEPRESSION
X-ALT-DESC;FMTTYPE=text/html:<span style="font-family: &quot\;Verdana&quot\;\,&quot\;sans-serif&quot\;\; font-size: 10pt\; mso-fareast-font-family: Calibri\; mso-fareast-theme-font: minor-latin\; mso-bidi-font-family: Calibri\; mso-ansi-language: EN-US\; mso-fareast-language: EN-US\; mso-bidi-language: AR-SA\;"><u><font color="#000000">Regional Roundtable:&nbsp\; ADULT DEPRESSION</font></u></span>
LOCATION:Location: Hanover Hospital York Street Medical Center (400 York Street) Date: Friday\, November 6\, 8:00-9:30 a.m.
UID:e.1500.1004
SEQUENCE:3
DTSTAMP:20260422T214927Z
URL:https://business.mainstreethanover.org/events/details/regional-roundtable-adult-depression-11-06-2015-1004
END:VEVENT

END:VCALENDAR
