BEGIN:VCALENDAR
VERSION:2.0
PRODID:-//ChamberMaster//Event Calendar 2.0//EN
METHOD:PUBLISH
X-PUBLISHED-TTL:P3D
REFRESH-INTERVAL:P3D
CALSCALE:GREGORIAN
BEGIN:VEVENT
DTSTART:20151030T120000Z
DTEND:20151030T133000Z
X-MICROSOFT-CDO-ALLDAYEVENT:FALSE
SUMMARY:Regional Roundtable: ADULT OVERWEIGHT/OBESITY
DESCRIPTION:Regional Roundtable:  ADULT OVERWEIGHT/OBESITY
X-ALT-DESC;FMTTYPE=text/html:<span style="font-size: 10pt\;"><span style="font-family: verdana\,sans-serif\;"><u>Regional Roundtable:&nbsp\; ADULT OVERWEIGHT/OBESITY</u></span></span><br />\n<br />\n&nbsp\;
LOCATION:Hanover Hospital York Street Medical Center (400 York Street)
UID:e.1500.1003
SEQUENCE:3
DTSTAMP:20260422T220050Z
URL:https://business.mainstreethanover.org/events/details/regional-roundtable-adult-overweight-obesity-10-30-2015-1003
END:VEVENT

END:VCALENDAR
