BEGIN:VCALENDAR
VERSION:2.0
PRODID:-//ChamberMaster//Event Calendar 2.0//EN
METHOD:PUBLISH
X-PUBLISHED-TTL:P3D
REFRESH-INTERVAL:P3D
CALSCALE:GREGORIAN
BEGIN:VEVENT
DTSTART:20171208T130000Z
DTEND:20171208T150000Z
X-MICROSOFT-CDO-ALLDAYEVENT:FALSE
SUMMARY:RESCHEDULED TO JANUARY...Seminar: How the R&D Credit Puts Cash in Your Pockets presented by Stambaugh Ness 12/8/17
DESCRIPTION:Don't fall for the myth that the R&D credit is only for very large companies in very specific industries. Join the many businesses who are saving significant money through this powerful tax savings strategy.\n\n\n\nTom Moul\, Director of Strategic Tax Advisory at Stambaugh Ness\, PC\, will detail how your company can take advantage of the R&D Credit to increase your bottom line.\n\n\n\nIn this seminar\, we will review:\n\n	What Types of Activities Qualify\n	Best Practices to Identify & Track Qualifying Expenses\n	Benefits to Your Firm\n	Success Stories\n\nSchedule
X-ALT-DESC;FMTTYPE=text/html:<span style="font-family:calibri\,sans-serif\;"><span style="font-size:11.0pt\;">Don&rsquo\;t fall for the myth that the R&amp\;D credit is only for very large companies in very specific industries. Join the many businesses who are saving significant money through this powerful tax savings strategy.</span></span><br />\n<br />\n<span style="font-family:calibri\,sans-serif\;"><span style="font-size:11.0pt\;">Tom Moul\, Director of Strategic Tax Advisory at Stambaugh Ness\, PC\, will detail how your company can take advantage of the R&amp\;D Credit to increase your bottom line.</span></span><br />\n<br />\n<strong><span style="font-family:calibri\,sans-serif\;"><span style="font-size:11.0pt\;">In this seminar\, we will review:</span></span></strong>\n<ul>\n	<li>What Types of Activities Qualify</li>\n	<li>Best Practices to Identify &amp\; Track Qualifying Expenses</li>\n	<li>Benefits to Your Firm</li>\n	<li>Success Stories</li>\n</ul>\n<button id="tw_schedule_btn" style="padding: 4px 6px\; position: absolute\; left: 141px\; top: 840px\; background-image: linear-gradient(rgb(255\, 255\, 255)\, rgb(240\, 240\, 240))\; border: 1px solid rgb(204\, 204\, 204)\; color: rgb(95\, 95\, 95)\; cursor: pointer\; font-weight: bold\; text-shadow: rgb(255\, 255\, 255) 0px 1px\; white-space: nowrap\; border-top-left-radius: 3px\; border-top-right-radius: 3px\; border-bottom-right-radius: 3px\; border-bottom-left-radius: 3px\; font-size: 11px\; z-index: 8675309\; display: none\; background-position: initial initial\; background-repeat: initial initial\;"><span>Schedule</span></button>
LOCATION:Hanover Area Chamber of Commerce - Large Conference Room 146 Carlisle Street Hanover\, PA 17331Schedule
UID:e.1500.3067
SEQUENCE:3
DTSTAMP:20260421T073152Z
URL:https://business.mainstreethanover.org/events/details/rescheduled-to-january-seminar-how-the-r-d-credit-puts-cash-in-your-pockets-presented-by-stambaugh-ness-12-8-17-3067
END:VEVENT

END:VCALENDAR
