BEGIN:VCALENDAR
VERSION:2.0
PRODID:-//ChamberMaster//Event Calendar 2.0//EN
METHOD:PUBLISH
X-PUBLISHED-TTL:P3D
REFRESH-INTERVAL:P3D
CALSCALE:GREGORIAN
BEGIN:VEVENT
DTSTART:20150402T140000Z
DTEND:20150402T230000Z
X-MICROSOFT-CDO-ALLDAYEVENT:FALSE
SUMMARY:Ribbon Cutting and Open House at LifeChanges Boutique
DESCRIPTION:Please help us to celebrate our new location with an open house and mixer including a ribbon cutting on April 2!  The open house with include vendors from 10 a.m. - 3 p.m.  The mixer will follow from 4 - 7 p.m.\, with the ribbon cutting taking place at 5 p.m.
X-ALT-DESC;FMTTYPE=text/html:Please help us to celebrate our new location with an open house and mixer including a ribbon cutting on April 2! &nbsp\;The open house with include vendors from 10 a.m. - 3 p.m. &nbsp\;The mixer will follow from 4 - 7 p.m.\, with the ribbon cutting taking place at 5 p.m.
LOCATION:221 Potomac Ave. Hanover\, PA 17331
UID:e.1500.873
SEQUENCE:3
DTSTAMP:20260423T074139Z
URL:https://business.mainstreethanover.org/events/details/ribbon-cutting-and-open-house-at-lifechanges-boutique-04-02-2015-873
END:VEVENT

END:VCALENDAR
