BEGIN:VCALENDAR
VERSION:2.0
PRODID:-//ChamberMaster//Event Calendar 2.0//EN
METHOD:PUBLISH
X-PUBLISHED-TTL:P3D
REFRESH-INTERVAL:P3D
CALSCALE:GREGORIAN
BEGIN:VEVENT
DTSTART:20170516T200000Z
DTEND:20170516T210000Z
X-MICROSOFT-CDO-ALLDAYEVENT:FALSE
SUMMARY:Ribbon Cutting at Bourbon Bar & Grill
DESCRIPTION:Please join Bourbon Bar & Grill for a Ribbon Cutting\n\n \n\nTuesday\, May 16\n\n4 p.m. to 5 p.m.\n\n \n\nRibbon Cutting to take place at 4 p.m.
X-ALT-DESC;FMTTYPE=text/html:<span style="color:#272534\;"><span style="font-family:calibri\,sans-serif\;"><span style="font-size:13.5pt\;">Please join Bourbon Bar &amp\; Grill for a&nbsp\;</span></span></span><span style="color:#272534\;"><span style="font-family:calibri\,sans-serif\;"><span style="font-size:13.5pt\;">Ribbon Cutting</span></span></span><br />\n&nbsp\;<br />\n<span style="color:#272534\;"><span style="font-family:calibri\,sans-serif\;"><span style="font-size:13.5pt\;">Tuesday\, May 16</span></span></span><br />\n<span style="color:#272534\;"><span style="font-family:calibri\,sans-serif\;"><span style="font-size:13.5pt\;">4 p.m. to 5 p.m.</span></span></span><br />\n&nbsp\;<br />\n<span style="color:#272534\;"><span style="font-family:calibri\,sans-serif\;"><span style="font-size:13.5pt\;">Ribbon Cutting to take place at 4 p.m.</span></span></span><br />\n&nbsp\;<br />\n&nbsp\;
LOCATION:1080 Carlisle Street\, Hanover
UID:e.1500.2493
SEQUENCE:3
DTSTAMP:20260421T171819Z
URL:https://business.mainstreethanover.org/events/details/ribbon-cutting-at-bourbon-bar-grill-2493
END:VEVENT

END:VCALENDAR
