BEGIN:VCALENDAR
VERSION:2.0
PRODID:-//ChamberMaster//Event Calendar 2.0//EN
METHOD:PUBLISH
X-PUBLISHED-TTL:P3D
REFRESH-INTERVAL:P3D
CALSCALE:GREGORIAN
BEGIN:VEVENT
DTSTART:20161101T190000Z
DTEND:20161101T200000Z
X-MICROSOFT-CDO-ALLDAYEVENT:FALSE
SUMMARY:Ribbon Cutting Ceremony at Edward Jones - Brandon Smith
DESCRIPTION:Ribbon Cutting at Edward Jones - Brandon Smith
X-ALT-DESC;FMTTYPE=text/html:Ribbon Cutting at Edward Jones - Brandon Smith&nbsp\;&nbsp\;&nbsp\;&nbsp\;
LOCATION:1144 W Elm Ave\, Hanover\, PA 17331
UID:e.1500.2274
SEQUENCE:3
DTSTAMP:20260422T021845Z
URL:https://business.mainstreethanover.org/events/details/ribbon-cutting-ceremony-at-edward-jones-brandon-smith-2274
END:VEVENT

END:VCALENDAR
