BEGIN:VCALENDAR
VERSION:2.0
PRODID:-//ChamberMaster//Event Calendar 2.0//EN
METHOD:PUBLISH
X-PUBLISHED-TTL:P3D
REFRESH-INTERVAL:P3D
CALSCALE:GREGORIAN
BEGIN:VEVENT
DTSTART:20150611T153000Z
DTEND:20150611T170000Z
X-MICROSOFT-CDO-ALLDAYEVENT:FALSE
SUMMARY:Ribbon Cutting Ceremony at New Hope Ministries
DESCRIPTION:Please join us for a ribbon cutting ceremony and open house at New Hope Ministries!
X-ALT-DESC;FMTTYPE=text/html:Please join us for a ribbon cutting ceremony and open house at New Hope Ministries!
LOCATION:135 Baltimore Street\, Hanover
UID:e.1500.931
SEQUENCE:3
DTSTAMP:20260423T054637Z
URL:https://business.mainstreethanover.org/events/details/ribbon-cutting-ceremony-at-new-hope-ministries-06-11-2015-931
END:VEVENT

END:VCALENDAR
