BEGIN:VCALENDAR
VERSION:2.0
PRODID:-//ChamberMaster//Event Calendar 2.0//EN
METHOD:PUBLISH
X-PUBLISHED-TTL:P3D
REFRESH-INTERVAL:P3D
CALSCALE:GREGORIAN
BEGIN:VEVENT
DTSTART:20150924T210000Z
DTEND:20150924T220000Z
X-MICROSOFT-CDO-ALLDAYEVENT:FALSE
SUMMARY:Ribbon Cutting Ceremony at Windy Hill on the Campus
DESCRIPTION:Please join us for a ribbon cutting ceremony and open house at Diamonds & Designs!
X-ALT-DESC;FMTTYPE=text/html:<span style="line-height: 20.7900009155273px\;">Please join us for a ribbon cutting ceremony and open house at Diamonds &amp\; Designs!</span>
LOCATION:1472 Roth's Church Road Suite 103\, Spring Grove\, PA
UID:e.1500.950
SEQUENCE:3
DTSTAMP:20260423T005513Z
URL:https://business.mainstreethanover.org/events/details/ribbon-cutting-ceremony-at-windy-hill-on-the-campus-09-24-2015-950
END:VEVENT

END:VCALENDAR
