BEGIN:VCALENDAR
VERSION:2.0
PRODID:-//ChamberMaster//Event Calendar 2.0//EN
METHOD:PUBLISH
X-PUBLISHED-TTL:P3D
REFRESH-INTERVAL:P3D
CALSCALE:GREGORIAN
BEGIN:VEVENT
DTSTART:20150612T180000Z
DTEND:20150612T200000Z
X-MICROSOFT-CDO-ALLDAYEVENT:FALSE
SUMMARY:Ribbon Cutting Event for Diamonds & Designs
DESCRIPTION:Come join us for our ribbon cutting.
X-ALT-DESC;FMTTYPE=text/html:Come join us for our ribbon cutting.
LOCATION:9 Carlisle St
UID:e.1500.926
SEQUENCE:3
DTSTAMP:20260423T040326Z
URL:https://business.mainstreethanover.org/events/details/ribbon-cutting-event-for-diamonds-designs-06-12-2015-926
END:VEVENT

END:VCALENDAR
