BEGIN:VCALENDAR
VERSION:2.0
PRODID:-//ChamberMaster//Event Calendar 2.0//EN
METHOD:PUBLISH
X-PUBLISHED-TTL:P3D
REFRESH-INTERVAL:P3D
CALSCALE:GREGORIAN
BEGIN:VEVENT
DTSTART:20161130T150000Z
DTEND:20161130T210000Z
X-MICROSOFT-CDO-ALLDAYEVENT:FALSE
SUMMARY:Ribbon Cutting & Open House at LifeChanges Boutique
DESCRIPTION:Please join LifeChanges Boutique for an Open House and Ribbon Cutting\n\n \n\nWednesday\, November 30\n\n10 a.m. to 7 p.m.\n\n \n\nRibbon Cutting to take place at 4 p.m.\n\n \n\nPlease RSVP by November 25\n\n717-633-1111
X-ALT-DESC;FMTTYPE=text/html:<span style="color:#272534\;"><span style="font-family:calibri\,sans-serif\;"><span style="font-size:13.5pt\;">Please join LifeChanges Boutique&nbsp\;</span></span></span><span style="color:#272534\;"><span style="font-family:calibri\,sans-serif\;"><span style="font-size:13.5pt\;">for an Open House and Ribbon Cutting</span></span></span><br />\n&nbsp\;<br />\n<span style="color:#272534\;"><span style="font-family:calibri\,sans-serif\;"><span style="font-size:13.5pt\;">Wednesday\, November 30</span></span></span><br />\n<span style="color:#272534\;"><span style="font-family:calibri\,sans-serif\;"><span style="font-size:13.5pt\;">10 a.m. to 7 p.m.</span></span></span><br />\n&nbsp\;<br />\n<span style="color:#272534\;"><span style="font-family:calibri\,sans-serif\;"><span style="font-size:13.5pt\;">Ribbon Cutting to take place at 4 p.m.</span></span></span><br />\n&nbsp\;<br />\n<span style="color:#272534\;"><span style="font-family:calibri\,sans-serif\;"><span style="font-size:13.5pt\;">Please RSVP by November 25</span></span></span><br />\n<span style="color:#272534\;"><span style="font-family:calibri\,sans-serif\;"><span style="font-size:13.5pt\;">717-633-1111</span></span></span>
LOCATION:788 Cherry Tree Court\, Hanover
UID:e.1500.2284
SEQUENCE:3
DTSTAMP:20260422T021719Z
URL:https://business.mainstreethanover.org/events/details/ribbon-cutting-open-house-at-lifechanges-boutique-2284
END:VEVENT

END:VCALENDAR
