BEGIN:VCALENDAR
VERSION:2.0
PRODID:-//ChamberMaster//Event Calendar 2.0//EN
METHOD:PUBLISH
X-PUBLISHED-TTL:P3D
REFRESH-INTERVAL:P3D
CALSCALE:GREGORIAN
BEGIN:VEVENT
DTSTART:20170902T150000Z
DTEND:20170902T200000Z
X-MICROSOFT-CDO-ALLDAYEVENT:FALSE
SUMMARY:Sam's Club Business Appreciation Event
DESCRIPTION:The club will hold a local business appreciation event in its parking lot located in the Gateway Hanover Shopping Center. This event will serve as an opportunity for both small and large businesses in the Hanover area to get to know each other\, all while supporting the Children's Miracle Network. Booths are still available for those who would like to have their business represented at the community event. Booths are available for a $25 donation to Children's Miracle Network.
X-ALT-DESC;FMTTYPE=text/html:The club will hold a local business appreciation event in its parking lot located in the Gateway Hanover Shopping Center. This event will serve as an opportunity for both small and large businesses in the Hanover area to get to know each other\, all while supporting the Children&#39\;s Miracle Network. Booths are still available for those who would like to have their business represented at the community event. Booths are available for a $25 donation to Children&#39\;s Miracle Network.&nbsp\;
LOCATION:261 Wilson Ave. Hanover\, PA 17331
UID:e.1500.3016
SEQUENCE:3
DTSTAMP:20260421T104940Z
URL:https://business.mainstreethanover.org/events/details/sam-s-club-business-appreciation-event-3016
END:VEVENT

END:VCALENDAR
